BEGIN:VCALENDAR
VERSION:2.0
PRODID:-//まるごとあらお 荒尾市観光協会 - ECPv6.15.5//NONSGML v1.0//EN
CALSCALE:GREGORIAN
METHOD:PUBLISH
X-ORIGINAL-URL:https://arao-kankou.jp
X-WR-CALDESC:まるごとあらお 荒尾市観光協会 のイベント
REFRESH-INTERVAL;VALUE=DURATION:PT1H
X-Robots-Tag:noindex
X-PUBLISHED-TTL:PT1H
BEGIN:VTIMEZONE
TZID:Asia/Tokyo
BEGIN:STANDARD
TZOFFSETFROM:+0900
TZOFFSETTO:+0900
TZNAME:JST
DTSTART:20250101T000000
END:STANDARD
END:VTIMEZONE
BEGIN:VEVENT
DTSTART;VALUE=DATE:20250429
DTEND;VALUE=DATE:20250507
DTSTAMP:20260423T124722
CREATED:20250501T074845Z
LAST-MODIFIED:20250501T081154Z
UID:15031-1745884800-1746575999@arao-kankou.jp
SUMMARY:万田坑GWクイズラリー開催‼2025年4月29日（火・祝）～5月6日（火・祝）
DESCRIPTION:2025年のゴールデンウィークは万田坑へ‼\n\n世界文化遺産「明治日本の産業革命遺産」は2015年の登録から今年の7月で10周年を迎えます。\n8県11市に点在する23の構成資産は、日本が西洋の技術を導入し半世紀という短期間で\n産業発展を遂げたことを証明している重要な資産群です。\n三池炭鉱「万田坑」も日々、大切に管理維持されています。\nゴールデンウィーク期間中には万田坑無料開放日もありますので、是非お出かけ下さい。\n \n『万田坑GWクイズラリー2025‼』\n※要入坑料！クイズラリー参加には1名様につき100円の参加費が必要です！\n  \n期間　　　2025年4月29日（火・祝日）～5月6日（火・祝日）\n開催時間　　9：30～16：30\n場所　　　　万田坑\n  \n【万田坑無料開放日】\n※入坑料は無料！クイズラリー参加には1名様につき100円の参加費が必要です！\n2025年4月29日（火・祝日）昭和の日\n2025年5月5日（月・祝日）こどもの日\n  \n2025年4月29日（火・祝日）から5月6日までの期間中、毎日、開館しています。\nご不明な点などございましたら「万田坑ステーション」までお問い合わせください。\n  \n万田坑ステーション\n〒864-0001熊本県荒尾市原万田200番地2 \n電話番号　0968-57-9155 \n時間　　　9：30～17：00（最終入坑16：30） \n休館日　　毎週月曜日（祝日の場合は翌平日）、12/29～1/3 \n万田坑跡見学：　大人410円、高校生310円、小・中学生210円 \n万田坑ステーション展示室・DVD上映室見学：　無料 \n駐車場：　無料 \nバス専用駐車場［大型5台、中型3台］ \n普通車72台 \nバイク専用駐車場もございます
URL:https://arao-kankou.jp/event/20240428/
LOCATION:熊本県
ATTACH;FMTTYPE=image/png:https://arao-kankou.jp/wp-content/uploads/2025/05/4b1537bf747dc0cd98fba3808876ed1c.png
END:VEVENT
END:VCALENDAR