BEGIN:VCALENDAR
VERSION:2.0
PRODID:-//まるごとあらお 荒尾市観光協会 - ECPv6.15.5//NONSGML v1.0//EN
CALSCALE:GREGORIAN
METHOD:PUBLISH
X-ORIGINAL-URL:https://arao-kankou.jp
X-WR-CALDESC:まるごとあらお 荒尾市観光協会 のイベント
REFRESH-INTERVAL;VALUE=DURATION:PT1H
X-Robots-Tag:noindex
X-PUBLISHED-TTL:PT1H
BEGIN:VTIMEZONE
TZID:Asia/Tokyo
BEGIN:STANDARD
TZOFFSETFROM:+0900
TZOFFSETTO:+0900
TZNAME:JST
DTSTART:20250101T000000
END:STANDARD
END:VTIMEZONE
BEGIN:VEVENT
DTSTART;TZID=Asia/Tokyo:20251103T100000
DTEND;TZID=Asia/Tokyo:20251103T150000
DTSTAMP:20260423T072140
CREATED:20250827T030230Z
LAST-MODIFIED:20251024T030337Z
UID:15780-1762164000-1762182000@arao-kankou.jp
SUMMARY:万田坑オータムフェスタ2025
DESCRIPTION:NEWS\n8.27　ページを公開しました。\n9.26　ページを更新しました。\n10.1　【挑戦状】ページを更新しました。\n	  \n  \n			\n						ABOUT\n					\n			\n						スケッチ\n					\n			\n						挑戦状！！\n					\n			\n						高所作業車\n					\n			\n						美味しい\n					\n			\n						ACCESS\n					\n	ABOUT　開催概要 \n	ABOUT　開催概要\n	  \n万田坑で荒尾の秋イベントを開催します！ \n内容は企画中です！ \n◆日時　令和７年１１月３日(月) \n◆場所　万田坑芝生広場　荒尾市原万田２００－２　入場料無料！ \n◆内容 \n・子どもスケッチ大会 \n・万田坑からの挑戦状　～なぞとき・スタンプ～ \n・高所作業車乗車体験 \n・あらおグルメコーナー \n・炭鉱電車走行 \n駐車場に限りがありますので、できる限り乗り合わせでご来場お願いします。 \n来場は保護者同伴でお願いします。 \n【その他】\nペット同伴でのご入場はお断りしております。\n※介助犬・盲導犬を除く\n万田坑有料区域へのご入場は通常通り９：３０～１７：００（最終入場１６：３０）となります。\n※１１月３日は無料で入場できます。\n※小雨決行 \n一部内容について変更・中止となる場合があります。ご了承ください。 \n・運営による撮影\n会場内では運営による写真、動画撮影が行われる予定です。\n会場内のお客様が映り込む場合があります。\nそれらはイベント終了後の広告物、取材メディア/テレビ/新聞/雑誌/WEBなどに露出/掲載される場合はありますので、あらかじめご了承ください。\n・喫煙について\n全面禁煙となっております。喫煙は喫煙所をご利用ください。\n【主催】万田坑ステーション（指定管理者：荒尾市観光協会）\n【問い合わせ】万田坑ステーション　0968-57-9155\n				\n	ABOUT　開催概要 \n	子どもスケッチ大会\n	秋晴れの空の下、「万田坑」を自由にスケッチしよう！ \n・時間　１１月３日(月)　9:30～15:00（9:30～12:00受付）\n・万田坑芝生広場\n・参加料　無料\n・対象　小学６年生まで　（限定１５０名：事前申込）\n・持ってくるもの\n画板、画材道具は各自ご持参ください。\n（水性・クレヨン・サインペン等　※油彩を除く）\n※画用紙（横540mm×縦380mm）は受付でお渡しします。\n・表彰\n幼児の部\n低学年の部（小学１年生から３年生）\n高学年の部（小学校４年生から６年生）\n・賞品\n最優秀賞　図書カード5\,000円分（各部門より１点）\n優秀賞　　図書カード3\,000円分（各部門より１点）\n佳作　　　図書カード1\,000円分（各部門より１点）\n・表彰式 \n※日程は後日、こちらに掲載いたします。 \n・作品展示\n入賞作品は万田炭鉱館で令和7年１１月２２日（土）～１２月１４日(日)まで展示いたします。\n↓参加には事前申込が必要です！ \nお申し込みはこちら！ \n昨年の表彰式の様子 \n  \n				\n				\n	  \n  \n  \n  \n  \n  \n	ABOUT　開催概要 \n	万田坑からの挑戦状～なぞとき・スタンプ！～\n	施設内のポイントに設置されたヒントをもとに、炭鉱や歴史にまつわる謎を解こう！\n◆参加費　２００円（ミッション毎） \nどちらのミッションにするか受付で選択してください。 \n※各ミッション先着100名 \n◆時間　10：00～15：00（ゴール受付14：30） \n◆所要時間　30～60分 \n◆ミッション①～なぞとき！～ \nエリア内のポイントに設置された謎を解いてお宝をゲットしよう！ \n記念品：万田坑オリジナル缶バッジ \n※対象：小学生以上 \n  \n◆ミッション②～スタンプラリー！～ \nスタンプを集めてオリジナルカレンダーをつくろう！ \nスタンプをそろえると万田坑の姿が！ \n完成すると2026年のカレンダーに！ \n記念品：カレンダー \n  \n  \n  \n				\n				\n	  \n  \n	ABOUT　開催概要 \n	高所作業車乗車体験\n	高所作業車に乗って、歴史ある万田坑を空から眺めてみませんか？櫓を間近に見られる迫力満点の体験です。頂上では記念撮影も可能です！ \n◆参加費　200円 \n◆受付方法 \n当日、会場にて整理券を配布します。定員に達し次第、受付終了となります。 \n◆時間 \n・10：00～12：00 \n・13：00～15：00 \n  \n  \n  \n  \n  \n  \n				\n				\n	ABOUT　開催概要 \n	あらおグルメコーナー\n	◆時間　11:00～15:00\n◆あらお梨サワーや荒尾で採れた大根、卵などをじっくり煮込んだおでんの販売\n◆地元キッチンカー、テント飲食販売\n				\n				\n				\n				\n				\n	アクセス
URL:https://arao-kankou.jp/event/20251103/
LOCATION:万田坑\, 原万田200-2\, 荒尾市\, 熊本県\, 8640001\, 日本
ATTACH;FMTTYPE=image/png:https://arao-kankou.jp/wp-content/uploads/2025/08/355f8752ac6b3a9e242b745b44fce234.png
END:VEVENT
BEGIN:VEVENT
DTSTART;TZID=Asia/Tokyo:20251103T100000
DTEND;TZID=Asia/Tokyo:20251103T150000
DTSTAMP:20260423T072140
CREATED:20251002T023737Z
LAST-MODIFIED:20251011T074036Z
UID:16148-1762164000-1762182000@arao-kankou.jp
SUMMARY:万田坑・鉄道敷跡ウォークラリー
DESCRIPTION:令和７年７月、「明治日本の産業革命遺産　製鉄・製鋼、造船、石炭産業」は世界遺産登録１０周年を迎えました。これを記念して構成資産である万田坑と、旧三池炭鉱専用鉄道敷跡をめぐるウォークラリーを実施します。参加者には、炭鉱電車デザインのオリジナルペンスタンドを参加賞としてプレゼントします。\nかつて近代日本産業を支えた石炭を産出した万田坑と、港まで石炭を運んだ鉄道敷跡にある４つのチェックポイントをめぐり、スタンプをすべて集めると、荒尾市の特産品などが当たるガラポン抽選会にも参加できます。 \n日　時：令和７年１１月３日（月・祝）１０時から１５時まで\n※受付は１４時まで\n場　所：万田坑・旧三池炭鉱専用鉄道敷跡\n参加料：１００円\n申　込：不要（当日受付）\n定　員：先着５００人 \n※同日には、荒尾市観光協会による「万田坑オータムフェスタ」も開催されます。\n「万田坑からの挑戦状」や、高所作業車に乗って櫓を間近から見る「高所作業車乗車体験」、スケッチ大会など、万田坑を満喫するイベントを予定しています。 \n  \nリンク \n世界遺産登録10周年記念「万田坑・鉄道敷跡ウォークラリー」を開催します\n 
URL:https://arao-kankou.jp/event/202511032/
LOCATION:万田坑\, 原万田200-2\, 荒尾市\, 熊本県\, 8640001\, 日本
ATTACH;FMTTYPE=image/jpeg:https://arao-kankou.jp/wp-content/uploads/2025/10/115aa5dbdd17c0eee4c1d68ee338b020.jpg
END:VEVENT
BEGIN:VEVENT
DTSTART;TZID=Asia/Tokyo:20260315T100000
DTEND;TZID=Asia/Tokyo:20260315T150000
DTSTAMP:20260423T072140
CREATED:20260109T051429Z
LAST-MODIFIED:20260307T100915Z
UID:16551-1773568800-1773586800@arao-kankou.jp
SUMMARY:3月15日(日)万田坑スプリングフェスタ2026
DESCRIPTION:ABOUT\n					\n			\n						挑戦状\n					\n			\n						マルシェ\n					\n			\n						わくわく\n					\n			\n						動物園\n					\n			\n						ACCESS\n					\n				\n	  \n  \n	ABOUT　開催概要\n	イベント概要\n万田坑で荒尾の春イベントを開催します！\n◆日時　２０２６年３月１５日(日) \n◆場所　万田坑芝生広場　荒尾市原万田２００－２　入場無料！ \n※万田坑の有料エリアは通常通り有料となります。 \n◆内容 \n・ふれあい動物園 \n・万田坑からの挑戦状（クイズラリー） \n・バブルタイム（team bub） \n・マルシェ \nなどなど順次内容公開予定 \n◆主催　万田坑ステーション \n【その他】\nペット同伴でのご入場はお断りしております。\n※介助犬・盲導犬を除く\n◦運営による撮影\n会場内では写真や動画撮影が行われる予定です。\n会場内のお客様が映り込む場合があります。\nそれらはイベント終了後の広告物、取材メディア/テレビ/新聞/雑誌/WEBなどに露出/掲載される場合がありますので、あらかじめご了承ください。\n◦会場内における注意事項\n全面禁煙となっております。喫煙は喫煙所をご利用ください\n				\n	  \n  \n	万田坑からの挑戦状\n	毎年好評のクイズラリー！\n万田坑の各所を当日限定でクイズ等のミッションをクリアしよう！\nミッションに見事にクリアしてアンケートに回答し、抽選にチャレンジして素敵な賞品をゲットしよう！\n  \n◆ミッション１　万田坑クイズに挑戦！\n万田小学校の子どもガイドが出題するクイズに挑戦しゴールを目指そう！\n◆ミッション２　10周年メッセージを書こう！\n一言メッセージをパネルに貼って960名で「10周年の万田坑」を完成させよう。\n◆黒いダイヤをゲット！\n特製炭鉱電車BOXから黒いダイヤを選ぼう！\nダイヤから\n黄色い紙が出たら当たり！\nグリーンランド入園券、荒尾の特産品、万田坑グッズなど\n白色の紙が出らら参加賞！\n万田坑オリジナルグッズ、味付海苔など\n★★★更に当日抽選するWチャンス★★★ \n★特賞：旅行券３０，０００円分～万田坑から始まる”世界遺産の旅”～\n★A賞：荒尾市特産品詰合せ５，０００円分+グリーンランドペア入園券\n★B賞：荒尾市特産品詰合せ３，０００円分+グリーンランドペア入園券\nアンケートへ回答された方の中から抽選でプレゼント！\n★発表は当日１４：５０頃からステージで発表\n★★★★★★★★ \n◆ミッション参加費：１００円\n※別途入坑料が必要です。\n※入坑料（大人４００円、高校生３００円、小中学生２００円）\n小学生以下の方は保護者同伴でお願いします。\n◆受付時間　１０：００～１４：３０\n万田坑の見学時間は９：３０～１７：００（最終入場１６：３０）\n  \n	  \n  \n  \n				\n				\n	  \n  \n	マルシェ\n\n			家族みんなでたのしめる　美味しいキッチンカーやかわいい雑貨など大集合♪	\n				\n	総勢３０店舗以上のマルシェで賑わいます！ \n美味しい♪可愛い♪楽しい♪ \n  \nマルシェ　出店者（五十音順） \n■キッチンカー ：16店舗 \n・あっぷるほっぺ　@apple_hoppe24 \n・おきん　@okin2525kitchencar \n・キングケバブ　＠king.kebab.fukuoka \n・グローバルキッチンバンブーカフェ　@bamboocafe386 \n・gozzo　　　@gozzo96 \n・さとのケーキ　@sato_no_cake \n・Ciel Mer Café　＠ciel_mer_café \n・SHIN華EN　@shinka_en \n・たっくんバーガー　＠takuma9330 \n・ひとつなぎ　@hitotsunagi8 \n・P’s　wagon　@P’swagon \n・ピザMaru　@pizzamaru122 \n・ぶちスタンド　＠buchistand \n・卵’s工房　@ranzukobo \n・Luana808　@luana_808 \n・LeaLea Kitchen　@lealea.kitchen \n  \n■テント販売：9店舗\n・ARISTO-KITCHEN　＠aristo.kitchen2023\n・お好み焼源ちゃん　＠okonomiyaki_genchan \n・唐揚げ DARUMA　@karaage_daruma8 \n・串焼き　新大　＠fantianguangsi6 \n・げんき家グループ　＠genki_yagroup \n・すぐっちゃんフーズ \n・たぬきのしっぽ本舗　＠tanukinosippo_ \n・夢のわたあめや　こっとんしゃわー　＠cotton__shower \n・ワビサビ　@syukouwabisabi \n  \n■ハンドメイド・ワークショップ：6店舗 \n・Anon　@anon_accessory \n・シャイニング　ドリーム　@misa_shining_dream \n・手形アートpettan　＠petapeta.pettan \n・handmade〜Ake〜　@handmade_ake_ \n・YUMI☆YUMI　@yumi1206yumi1206 \n・ゆめデコWorkshop　＠yumedeco_world \n  \n■縁日：2店舗\n・うんぴぃ海賊団　＠ennichi.kodomo\n・おもちゃ屋けんちゃん　@Omochayakenchan \n  \n  \n  \n  \n	  \n  \n	わくわく楽しいステージ　～万田坑YOSAKOI～\n				\n	  \n万田坑YOSAKOIステージ \n【時間】①10:00  ②13:30 \n明治日本の産業革命遺産にゆかりのある九州各地のYOSAKOIチームが集結。\n熱気あふれる演舞で、10周年を力強く祝う！\n（出演チーム） \n・北九州わっしょい百万隊（福岡） \n・博多よさこい連（福岡） \n・黒いダイヤ踊り隊（福岡） \n・伊萬里風雅（佐賀） \n・さが維新おどり（佐賀） \n・煌星（長崎・佐賀） \n・肥後荒尾さのよい踊り子隊（熊本） \n・さのよい舞樂采翔～BLAST～（熊本） \n・島津詩慶藩（鹿児島） \n	わくわく楽しい体験　～VIVOサーキットパーク～\n				\n	運動神経が良くなる基本動作 \nアクロバットパフォーマンス集団VIVOによる体操ワークショップ \n体を使って、ステージの各ミッションをクリアしよう！ \n◆料金　無料 \n◆対象　3歳～中学生（保護者同伴OK） \n◆時間　10:00～12:00、13:00～15:00 \n  \n				\n				\n	  \n  \n	ふれあい動物園\n	楽しくふれあえる動物たちがやってくる♪\nポニー乗馬体験もできます。 \n来てくれるどうぶつたち \nロバ・ミニブタ・ヤギ・ひつじ・ウサギ・アヒル・ひよこ・リクガメなど \n※変更となる場合もございます。 \n				\n	  \n  \n	バブルタイム\n				\n	大量のシャボン玉が音楽に合わせて飛ばされます！ \n夢のような景色に♪ \n  \n  \n  \n				\n	アクセス\n				\n	  \n  \n				\n	 \n\n 
URL:https://arao-kankou.jp/event/20260315/
LOCATION:万田坑\, 原万田200-2\, 荒尾市\, 熊本県\, 8640001\, 日本
ATTACH;FMTTYPE=image/jpeg:https://arao-kankou.jp/wp-content/uploads/2026/01/cbb423f1f7bc5367deecfb6120fa5a6f.jpg
END:VEVENT
END:VCALENDAR